BEGIN:VCALENDAR
VERSION:2.0
PRODID:-//Stumptown Trivia &amp; Bingo - ECPv6.15.20//NONSGML v1.0//EN
CALSCALE:GREGORIAN
METHOD:PUBLISH
X-ORIGINAL-URL:https://stumptowntrivia.com
X-WR-CALDESC:Events for Stumptown Trivia &amp; Bingo
REFRESH-INTERVAL;VALUE=DURATION:PT1H
X-Robots-Tag:noindex
X-PUBLISHED-TTL:PT1H
BEGIN:VTIMEZONE
TZID:America/Los_Angeles
BEGIN:DAYLIGHT
TZOFFSETFROM:-0800
TZOFFSETTO:-0700
TZNAME:PDT
DTSTART:20250309T100000
END:DAYLIGHT
BEGIN:STANDARD
TZOFFSETFROM:-0700
TZOFFSETTO:-0800
TZNAME:PST
DTSTART:20251102T090000
END:STANDARD
BEGIN:DAYLIGHT
TZOFFSETFROM:-0800
TZOFFSETTO:-0700
TZNAME:PDT
DTSTART:20260308T100000
END:DAYLIGHT
BEGIN:STANDARD
TZOFFSETFROM:-0700
TZOFFSETTO:-0800
TZNAME:PST
DTSTART:20261101T090000
END:STANDARD
BEGIN:DAYLIGHT
TZOFFSETFROM:-0800
TZOFFSETTO:-0700
TZNAME:PDT
DTSTART:20270314T100000
END:DAYLIGHT
BEGIN:STANDARD
TZOFFSETFROM:-0700
TZOFFSETTO:-0800
TZNAME:PST
DTSTART:20271107T090000
END:STANDARD
END:VTIMEZONE
BEGIN:VEVENT
DTSTART;TZID=America/Los_Angeles:20260218T190000
DTEND;TZID=America/Los_Angeles:20260218T210000
DTSTAMP:20260424T023155
CREATED:20260206T185948Z
LAST-MODIFIED:20260206T185948Z
UID:290-1771441200-1771448400@stumptowntrivia.com
SUMMARY:Twilight Saga Trivia
DESCRIPTION:Check-In: 6pm | All Ages
URL:https://stumptowntrivia.com/event/twilight-saga-trivia/
LOCATION:Prime Tap House\, 3900 SW Orbit St Unit 120\, B eaverton\, OR\, 97005
END:VEVENT
BEGIN:VEVENT
DTSTART;TZID=America/Los_Angeles:20260218T183000
DTEND;TZID=America/Los_Angeles:20260218T203000
DTSTAMP:20260424T023155
CREATED:20260207T004411Z
LAST-MODIFIED:20260207T004411Z
UID:293-1771439400-1771446600@stumptowntrivia.com
SUMMARY:Bingo Night
DESCRIPTION:Check-In: 6pm | All Ages
URL:https://stumptowntrivia.com/event/bingo-night-22/
LOCATION:Tap & Table\, 12950 SW Pacific Hwy #285\, Tigard\, OR\, 97223
END:VEVENT
BEGIN:VEVENT
DTSTART;TZID=America/Los_Angeles:20260217T190000
DTEND;TZID=America/Los_Angeles:20260217T210000
DTSTAMP:20260424T023155
CREATED:20260202T062437Z
LAST-MODIFIED:20260202T062437Z
UID:278-1771354800-1771362000@stumptowntrivia.com
SUMMARY:The Office Trivia
DESCRIPTION:Check-In: 6pm | All Ages
URL:https://stumptowntrivia.com/event/the-office-trivia-2/
LOCATION:KingPins Beaverton\, 2725 SW Cedar Hills Blvd\, Beaverton\, OR\, 97005
END:VEVENT
BEGIN:VEVENT
DTSTART;TZID=America/Los_Angeles:20260217T190000
DTEND;TZID=America/Los_Angeles:20260217T210000
DTSTAMP:20260424T023155
CREATED:20260202T035041Z
LAST-MODIFIED:20260202T035041Z
UID:275-1771354800-1771362000@stumptowntrivia.com
SUMMARY:Bingo Night
DESCRIPTION:Check-In: 6pm | All Ages
URL:https://stumptowntrivia.com/event/bingo-night-21/
LOCATION:3 Mugs Public House\, 16755 W Baseline Rd suite 110\, Beaverton\, OR\, 97006
END:VEVENT
BEGIN:VEVENT
DTSTART;TZID=America/Los_Angeles:20260217T183000
DTEND;TZID=America/Los_Angeles:20260217T203000
DTSTAMP:20260424T023155
CREATED:20260206T180811Z
LAST-MODIFIED:20260206T180811Z
UID:287-1771353000-1771360200@stumptowntrivia.com
SUMMARY:General Trivia
DESCRIPTION:Check-In: 6pm | 21+ Only
URL:https://stumptowntrivia.com/event/general-trivia-8/
LOCATION:Vanguard Brewing\, 27501 SW 95th Ave #945\, Wilsonville\, OR\, 97070
END:VEVENT
BEGIN:VEVENT
DTSTART;TZID=America/Los_Angeles:20260216T190000
DTEND;TZID=America/Los_Angeles:20260216T210000
DTSTAMP:20260424T023155
CREATED:20260201T205037Z
LAST-MODIFIED:20260201T205037Z
UID:267-1771268400-1771275600@stumptowntrivia.com
SUMMARY:Gilmore Girls Trivia
DESCRIPTION:Check-In: 6pm | All Ages
URL:https://stumptowntrivia.com/event/gilmore-girls-trivia/
LOCATION:Three Mermaids Public House\, 18041 SW Lower Boones Ferry Rd #1b\, Tigard\, OR\, 97224
END:VEVENT
BEGIN:VEVENT
DTSTART;TZID=America/Los_Angeles:20260216T183000
DTEND;TZID=America/Los_Angeles:20260216T203000
DTSTAMP:20260424T023155
CREATED:20260201T232535Z
LAST-MODIFIED:20260201T232535Z
UID:270-1771266600-1771273800@stumptowntrivia.com
SUMMARY:90s Music Bingo
DESCRIPTION:Check-In: 6pm | 21+ Only
URL:https://stumptowntrivia.com/event/90s-music-bingo-2/
LOCATION:Vanguard Brewing\, 27501 SW 95th Ave #945\, Wilsonville\, OR\, 97070
END:VEVENT
BEGIN:VEVENT
DTSTART;TZID=America/Los_Angeles:20260216T180000
DTEND;TZID=America/Los_Angeles:20260216T200000
DTSTAMP:20260424T023155
CREATED:20260202T034837Z
LAST-MODIFIED:20260208T172856Z
UID:272-1771264800-1771272000@stumptowntrivia.com
SUMMARY:General Trivia
DESCRIPTION:Check-In: 5:30pm | All Ages
URL:https://stumptowntrivia.com/event/general-trivia-7/
LOCATION:Forage Grove\, 1921 21st Ave\, Forest Grove\, OR\, 97116\, United States
END:VEVENT
BEGIN:VEVENT
DTSTART;TZID=America/Los_Angeles:20260212T190000
DTEND;TZID=America/Los_Angeles:20260212T210000
DTSTAMP:20260424T023155
CREATED:20260201T182024Z
LAST-MODIFIED:20260212T213632Z
UID:264-1770922800-1770930000@stumptowntrivia.com
SUMMARY:Name That Movie Trivia
DESCRIPTION:Check-In: 6pm | All Ages
URL:https://stumptowntrivia.com/event/name-that-movie-trivia/
LOCATION:3 Mugs Public House\, 16755 W Baseline Rd suite 110\, Beaverton\, OR\, 97006
END:VEVENT
BEGIN:VEVENT
DTSTART;TZID=America/Los_Angeles:20260212T190000
DTEND;TZID=America/Los_Angeles:20260212T210000
DTSTAMP:20260424T023155
CREATED:20260201T072343Z
LAST-MODIFIED:20260201T072343Z
UID:261-1770922800-1770930000@stumptowntrivia.com
SUMMARY:Finish the Lyrics Trivia
DESCRIPTION:Check-In: 6pm | All Ages
URL:https://stumptowntrivia.com/event/finish-the-lyrics-trivia-2/
LOCATION:Taps! on Scholls\, 11427 SW Scholls Ferry Rd\, Beaverton\, OR\, 97008
END:VEVENT
BEGIN:VEVENT
DTSTART;TZID=America/Los_Angeles:20260211T190000
DTEND;TZID=America/Los_Angeles:20260211T210000
DTSTAMP:20260424T023155
CREATED:20260201T023723Z
LAST-MODIFIED:20260201T023723Z
UID:258-1770836400-1770843600@stumptowntrivia.com
SUMMARY:Disney Trivia
DESCRIPTION:Check-In: 6pm | $5 Entry
URL:https://stumptowntrivia.com/event/disney-trivia-3/
LOCATION:Kingston Sports Bar\, 2021 SW Morrison St\, Portland\, OR\, 97205
END:VEVENT
BEGIN:VEVENT
DTSTART;TZID=America/Los_Angeles:20260210T190000
DTEND;TZID=America/Los_Angeles:20260210T210000
DTSTAMP:20260424T023155
CREATED:20260131T201834Z
LAST-MODIFIED:20260131T202821Z
UID:254-1770750000-1770757200@stumptowntrivia.com
SUMMARY:Name That Tune: Country
DESCRIPTION:Check-In: 6pm | All Ages
URL:https://stumptowntrivia.com/event/country-music-trivia/
LOCATION:KingPins Beaverton\, 2725 SW Cedar Hills Blvd\, Beaverton\, OR\, 97005
END:VEVENT
BEGIN:VEVENT
DTSTART;TZID=America/Los_Angeles:20260210T190000
DTEND;TZID=America/Los_Angeles:20260210T210000
DTSTAMP:20260424T023155
CREATED:20260130T215317Z
LAST-MODIFIED:20260130T215317Z
UID:251-1770750000-1770757200@stumptowntrivia.com
SUMMARY:Bingo Night
DESCRIPTION:Check-In: 6pm | All Ages
URL:https://stumptowntrivia.com/event/bingo-night-20/
LOCATION:3 Mugs Public House\, 16755 W Baseline Rd suite 110\, Beaverton\, OR\, 97006
END:VEVENT
BEGIN:VEVENT
DTSTART;TZID=America/Los_Angeles:20260210T183000
DTEND;TZID=America/Los_Angeles:20260210T203000
DTSTAMP:20260424T023155
CREATED:20260130T010406Z
LAST-MODIFIED:20260130T010406Z
UID:249-1770748200-1770755400@stumptowntrivia.com
SUMMARY:General Trivia
DESCRIPTION:Check-In: 6pm | 21+ Only
URL:https://stumptowntrivia.com/event/general-trivia-6/
LOCATION:Vanguard Brewing\, 27501 SW 95th Ave #945\, Wilsonville\, OR\, 97070
END:VEVENT
BEGIN:VEVENT
DTSTART;TZID=America/Los_Angeles:20260209T190000
DTEND;TZID=America/Los_Angeles:20260209T210000
DTSTAMP:20260424T023155
CREATED:20260129T202422Z
LAST-MODIFIED:20260129T202422Z
UID:246-1770663600-1770670800@stumptowntrivia.com
SUMMARY:80s & 90s Music Trivia
DESCRIPTION:Check-In: 6pm | 21+ Only
URL:https://stumptowntrivia.com/event/80s-90s-music-trivia/
LOCATION:Civic Taproom\, 621 SW 19th Ave\, Portland\, OR\, 97205\, United States
END:VEVENT
BEGIN:VEVENT
DTSTART;TZID=America/Los_Angeles:20260209T190000
DTEND;TZID=America/Los_Angeles:20260209T210000
DTSTAMP:20260424T023155
CREATED:20260129T171908Z
LAST-MODIFIED:20260129T171908Z
UID:243-1770663600-1770670800@stumptowntrivia.com
SUMMARY:Star Wars Trivia
DESCRIPTION:Check-In: 6pm | All Ages
URL:https://stumptowntrivia.com/event/star-wars-trivia/
LOCATION:Forage Grove\, 1921 21st Ave\, Forest Grove\, OR\, 97116\, United States
END:VEVENT
BEGIN:VEVENT
DTSTART;TZID=America/Los_Angeles:20260208T170000
DTEND;TZID=America/Los_Angeles:20260208T190000
DTSTAMP:20260424T023155
CREATED:20260128T215613Z
LAST-MODIFIED:20260128T215613Z
UID:241-1770570000-1770577200@stumptowntrivia.com
SUMMARY:Sunday Bingo
DESCRIPTION:Check-In: 4pm | All Ages
URL:https://stumptowntrivia.com/event/sunday-bingo-2/
LOCATION:Hops on Tap\, 15660 SW Pacific Hwy Suite A-8\, Tigard\, OR\, 97224
END:VEVENT
BEGIN:VEVENT
DTSTART;TZID=America/Los_Angeles:20260205T190000
DTEND;TZID=America/Los_Angeles:20260205T210000
DTSTAMP:20260424T023155
CREATED:20260128T215016Z
LAST-MODIFIED:20260128T215016Z
UID:239-1770318000-1770325200@stumptowntrivia.com
SUMMARY:Bingo Night
DESCRIPTION:Check-In: 6pm | All Ages
URL:https://stumptowntrivia.com/event/bingo-night-19/
LOCATION:Three Mugs Brewing\, 202 NE Aloclek Dr Ste 108\, Hillsboro\, OR\, 97124
END:VEVENT
BEGIN:VEVENT
DTSTART;TZID=America/Los_Angeles:20260205T183000
DTEND;TZID=America/Los_Angeles:20260205T203000
DTSTAMP:20260424T023155
CREATED:20260125T192935Z
LAST-MODIFIED:20260125T192935Z
UID:236-1770316200-1770323400@stumptowntrivia.com
SUMMARY:F•R•I•E•N•D•S Trivia
DESCRIPTION:Check-In: 6pm | All Ages
URL:https://stumptowntrivia.com/event/friends-trivia-2/
LOCATION:Tap & Table\, 12950 SW Pacific Hwy #285\, Tigard\, OR\, 97223
END:VEVENT
BEGIN:VEVENT
DTSTART;TZID=America/Los_Angeles:20260204T190000
DTEND;TZID=America/Los_Angeles:20260204T210000
DTSTAMP:20260424T023155
CREATED:20260125T010857Z
LAST-MODIFIED:20260125T010857Z
UID:233-1770231600-1770238800@stumptowntrivia.com
SUMMARY:Bingo Night
DESCRIPTION:Check-In: 6pm | All Ages
URL:https://stumptowntrivia.com/event/bingo-night-18/
LOCATION:Prime Tap House\, 3900 SW Orbit St Unit 120\, B eaverton\, OR\, 97005
END:VEVENT
BEGIN:VEVENT
DTSTART;TZID=America/Los_Angeles:20260203T190000
DTEND;TZID=America/Los_Angeles:20260203T210000
DTSTAMP:20260424T023155
CREATED:20260124T184803Z
LAST-MODIFIED:20260125T192829Z
UID:228-1770145200-1770152400@stumptowntrivia.com
SUMMARY:Bingo Night
DESCRIPTION:Check-In: 6pm | All Ages
URL:https://stumptowntrivia.com/event/bingo-night-17/
LOCATION:3 Mugs Public House\, 16755 W Baseline Rd suite 110\, Beaverton\, OR\, 97006
END:VEVENT
BEGIN:VEVENT
DTSTART;TZID=America/Los_Angeles:20260203T190000
DTEND;TZID=America/Los_Angeles:20260203T210000
DTSTAMP:20260424T023155
CREATED:20260124T001836Z
LAST-MODIFIED:20260124T001836Z
UID:225-1770145200-1770152400@stumptowntrivia.com
SUMMARY:Taylor Swift Trivia
DESCRIPTION:Check-In: 6pm | All Ages
URL:https://stumptowntrivia.com/event/taylor-swift-trivia/
LOCATION:KingPins Beaverton\, 2725 SW Cedar Hills Blvd\, Beaverton\, OR\, 97005
END:VEVENT
BEGIN:VEVENT
DTSTART;TZID=America/Los_Angeles:20260203T183000
DTEND;TZID=America/Los_Angeles:20260203T203000
DTSTAMP:20260424T023155
CREATED:20260124T185803Z
LAST-MODIFIED:20260124T185803Z
UID:230-1770143400-1770150600@stumptowntrivia.com
SUMMARY:Early 2000s Trivia
DESCRIPTION:Check-In: 6pm | 21+ Only
URL:https://stumptowntrivia.com/event/early-2000s-trivia/
LOCATION:Vanguard Brewing\, 27501 SW 95th Ave #945\, Wilsonville\, OR\, 97070
END:VEVENT
BEGIN:VEVENT
DTSTART;TZID=America/Los_Angeles:20260202T190000
DTEND;TZID=America/Los_Angeles:20260202T210000
DTSTAMP:20260424T023155
CREATED:20260123T221142Z
LAST-MODIFIED:20260123T221142Z
UID:223-1770058800-1770066000@stumptowntrivia.com
SUMMARY:Bingo Night
DESCRIPTION:Check-In: 6pm | All Ages
URL:https://stumptowntrivia.com/event/bingo-night-16/
LOCATION:Forage Grove\, 1921 21st Ave\, Forest Grove\, OR\, 97116\, United States
END:VEVENT
BEGIN:VEVENT
DTSTART;TZID=America/Los_Angeles:20260202T190000
DTEND;TZID=America/Los_Angeles:20260202T210000
DTSTAMP:20260424T023155
CREATED:20260123T175848Z
LAST-MODIFIED:20260202T191400Z
UID:219-1770058800-1770066000@stumptowntrivia.com
SUMMARY:Name That Tune Trivia
DESCRIPTION:Check-In: 6pm | All Ages
URL:https://stumptowntrivia.com/event/name-that-tune-trivia-2/
LOCATION:Three Mermaids Public House\, 18041 SW Lower Boones Ferry Rd #1b\, Tigard\, OR\, 97224
END:VEVENT
BEGIN:VEVENT
DTSTART;TZID=America/Los_Angeles:20260202T183000
DTEND;TZID=America/Los_Angeles:20260202T203000
DTSTAMP:20260424T023155
CREATED:20260123T190815Z
LAST-MODIFIED:20260123T190815Z
UID:221-1770057000-1770064200@stumptowntrivia.com
SUMMARY:Bingo Night
DESCRIPTION:Check-In: 6pm | 21+ Only
URL:https://stumptowntrivia.com/event/bingo-night-15/
LOCATION:Vanguard Brewing\, 27501 SW 95th Ave #945\, Wilsonville\, OR\, 97070
END:VEVENT
BEGIN:VEVENT
DTSTART;TZID=America/Los_Angeles:20260130T183000
DTEND;TZID=America/Los_Angeles:20260130T203000
DTSTAMP:20260424T023155
CREATED:20260119T010558Z
LAST-MODIFIED:20260119T010558Z
UID:216-1769797800-1769805000@stumptowntrivia.com
SUMMARY:Bingo Night
DESCRIPTION:Check-In: 6pm | All Ages
URL:https://stumptowntrivia.com/event/bingo-night-14/
LOCATION:Tap & Table\, 12950 SW Pacific Hwy #285\, Tigard\, OR\, 97223
END:VEVENT
BEGIN:VEVENT
DTSTART;TZID=America/Los_Angeles:20260128T190000
DTEND;TZID=America/Los_Angeles:20260128T210000
DTSTAMP:20260424T023155
CREATED:20260117T193323Z
LAST-MODIFIED:20260117T193323Z
UID:214-1769626800-1769634000@stumptowntrivia.com
SUMMARY:Bingo Night
DESCRIPTION:Check-In: 6pm | All Ages
URL:https://stumptowntrivia.com/event/bingo-night-13/
LOCATION:Hops on Tap\, 15660 SW Pacific Hwy Suite A-8\, Tigard\, OR\, 97224
END:VEVENT
BEGIN:VEVENT
DTSTART;TZID=America/Los_Angeles:20260127T190000
DTEND;TZID=America/Los_Angeles:20260127T210000
DTSTAMP:20260424T023155
CREATED:20260117T193059Z
LAST-MODIFIED:20260117T193059Z
UID:211-1769540400-1769547600@stumptowntrivia.com
SUMMARY:MARVEL Trivia
DESCRIPTION:Check-In: 6pm | All Ages
URL:https://stumptowntrivia.com/event/marvel-trivia/
LOCATION:KingPins Beaverton\, 2725 SW Cedar Hills Blvd\, Beaverton\, OR\, 97005
END:VEVENT
BEGIN:VEVENT
DTSTART;TZID=America/Los_Angeles:20260127T190000
DTEND;TZID=America/Los_Angeles:20260127T210000
DTSTAMP:20260424T023155
CREATED:20260112T053327Z
LAST-MODIFIED:20260112T053327Z
UID:207-1769540400-1769547600@stumptowntrivia.com
SUMMARY:HP Deathly Hallows Trivia
DESCRIPTION:Check-In: 6pm | Free to Play
URL:https://stumptowntrivia.com/event/hp-deathly-hallows-trivia/
LOCATION:Stumptown Taps\, 2401 Portland Rd. Suite A6\, Newberg\, OR\, 97132
END:VEVENT
END:VCALENDAR