BEGIN:VCALENDAR
VERSION:2.0
PRODID:-//Stumptown Trivia &amp; Bingo - ECPv6.15.20//NONSGML v1.0//EN
CALSCALE:GREGORIAN
METHOD:PUBLISH
X-WR-CALNAME:Stumptown Trivia &amp; Bingo
X-ORIGINAL-URL:https://stumptowntrivia.com
X-WR-CALDESC:Events for Stumptown Trivia &amp; Bingo
REFRESH-INTERVAL;VALUE=DURATION:PT1H
X-Robots-Tag:noindex
X-PUBLISHED-TTL:PT1H
BEGIN:VTIMEZONE
TZID:America/Los_Angeles
BEGIN:DAYLIGHT
TZOFFSETFROM:-0800
TZOFFSETTO:-0700
TZNAME:PDT
DTSTART:20250309T100000
END:DAYLIGHT
BEGIN:STANDARD
TZOFFSETFROM:-0700
TZOFFSETTO:-0800
TZNAME:PST
DTSTART:20251102T090000
END:STANDARD
BEGIN:DAYLIGHT
TZOFFSETFROM:-0800
TZOFFSETTO:-0700
TZNAME:PDT
DTSTART:20260308T100000
END:DAYLIGHT
BEGIN:STANDARD
TZOFFSETFROM:-0700
TZOFFSETTO:-0800
TZNAME:PST
DTSTART:20261101T090000
END:STANDARD
BEGIN:DAYLIGHT
TZOFFSETFROM:-0800
TZOFFSETTO:-0700
TZNAME:PDT
DTSTART:20270314T100000
END:DAYLIGHT
BEGIN:STANDARD
TZOFFSETFROM:-0700
TZOFFSETTO:-0800
TZNAME:PST
DTSTART:20271107T090000
END:STANDARD
END:VTIMEZONE
BEGIN:VEVENT
DTSTART;TZID=America/Los_Angeles:20260310T190000
DTEND;TZID=America/Los_Angeles:20260310T210000
DTSTAMP:20260424T054122
CREATED:20260221T183019Z
LAST-MODIFIED:20260221T183019Z
UID:351-1773169200-1773176400@stumptowntrivia.com
SUMMARY:Schitt's Creek Trivia
DESCRIPTION:Check-In: 6pm | Free to Play
URL:https://stumptowntrivia.com/event/schitts-creek-trivia/
LOCATION:KingPins Beaverton\, 2725 SW Cedar Hills Blvd\, Beaverton\, OR\, 97005
END:VEVENT
BEGIN:VEVENT
DTSTART;TZID=America/Los_Angeles:20260311T190000
DTEND;TZID=America/Los_Angeles:20260311T210000
DTSTAMP:20260424T054122
CREATED:20260226T182953Z
LAST-MODIFIED:20260311T180520Z
UID:360-1773255600-1773262800@stumptowntrivia.com
SUMMARY:90s Music Trivia
DESCRIPTION:Check-In: 6pm | All Ages
URL:https://stumptowntrivia.com/event/90s-music-trivia/
LOCATION:Kingston Sports Bar\, 2021 SW Morrison St\, Portland\, OR\, 97205
END:VEVENT
BEGIN:VEVENT
DTSTART;TZID=America/Los_Angeles:20260312T183000
DTEND;TZID=America/Los_Angeles:20260312T203000
DTSTAMP:20260424T054122
CREATED:20260226T204155Z
LAST-MODIFIED:20260226T204155Z
UID:364-1773340200-1773347400@stumptowntrivia.com
SUMMARY:Bingo Night
DESCRIPTION:Check-In: 6pm | All Ages
URL:https://stumptowntrivia.com/event/bingo-night-30/
LOCATION:Tap & Table\, 12950 SW Pacific Hwy #285\, Tigard\, OR\, 97223
END:VEVENT
BEGIN:VEVENT
DTSTART;TZID=America/Los_Angeles:20260312T190000
DTEND;TZID=America/Los_Angeles:20260312T210000
DTSTAMP:20260424T054122
CREATED:20260227T080250Z
LAST-MODIFIED:20260227T080250Z
UID:366-1773342000-1773349200@stumptowntrivia.com
SUMMARY:Name That Movie Trivia
DESCRIPTION:Check-In: 6pm | All Ages
URL:https://stumptowntrivia.com/event/name-that-movie-trivia-2/
LOCATION:Taps! on Scholls\, 11427 SW Scholls Ferry Rd\, Beaverton\, OR\, 97008
END:VEVENT
BEGIN:VEVENT
DTSTART;TZID=America/Los_Angeles:20260312T190000
DTEND;TZID=America/Los_Angeles:20260312T210000
DTSTAMP:20260424T054122
CREATED:20260227T172715Z
LAST-MODIFIED:20260227T172715Z
UID:368-1773342000-1773349200@stumptowntrivia.com
SUMMARY:80s Music Trivia
DESCRIPTION:Check-In: 6pm | All Ages
URL:https://stumptowntrivia.com/event/80s-music-trivia/
LOCATION:3 Mugs Public House\, 16755 W Baseline Rd suite 110\, Beaverton\, OR\, 97006
END:VEVENT
BEGIN:VEVENT
DTSTART;TZID=America/Los_Angeles:20260316T180000
DTEND;TZID=America/Los_Angeles:20260316T200000
DTSTAMP:20260424T054122
CREATED:20260228T185042Z
LAST-MODIFIED:20260228T185042Z
UID:376-1773684000-1773691200@stumptowntrivia.com
SUMMARY:General Trivia
DESCRIPTION:Check-In: 5:30pm | All Ages
URL:https://stumptowntrivia.com/event/general-trivia-13/
LOCATION:Forage Grove\, 1921 21st Ave\, Forest Grove\, OR\, 97116\, United States
END:VEVENT
BEGIN:VEVENT
DTSTART;TZID=America/Los_Angeles:20260316T183000
DTEND;TZID=America/Los_Angeles:20260316T203000
DTSTAMP:20260424T054122
CREATED:20260227T183948Z
LAST-MODIFIED:20260227T183948Z
UID:371-1773685800-1773693000@stumptowntrivia.com
SUMMARY:EMO Music Bingo
DESCRIPTION:Check-in: 6pm | 21+ Only
URL:https://stumptowntrivia.com/event/emo-music-bingo-2/
LOCATION:Vanguard Brewing\, 27501 SW 95th Ave #945\, Wilsonville\, OR\, 97070
END:VEVENT
BEGIN:VEVENT
DTSTART;TZID=America/Los_Angeles:20260316T183000
DTEND;TZID=America/Los_Angeles:20260316T203000
DTSTAMP:20260424T054122
CREATED:20260228T181739Z
LAST-MODIFIED:20260228T181739Z
UID:373-1773685800-1773693000@stumptowntrivia.com
SUMMARY:Early 2000s Trivia
DESCRIPTION:Check-In: 6pm | Free to Play
URL:https://stumptowntrivia.com/event/early-2000s-trivia-2/
LOCATION:Three Mermaids Public House\, 18041 SW Lower Boones Ferry Rd #1b\, Tigard\, OR\, 97224
END:VEVENT
BEGIN:VEVENT
DTSTART;TZID=America/Los_Angeles:20260317T183000
DTEND;TZID=America/Los_Angeles:20260317T203000
DTSTAMP:20260424T054122
CREATED:20260228T191137Z
LAST-MODIFIED:20260228T191137Z
UID:378-1773772200-1773779400@stumptowntrivia.com
SUMMARY:General Trivia
DESCRIPTION:Check-In: 6pm | 21+ Only
URL:https://stumptowntrivia.com/event/general-trivia-14/
LOCATION:Vanguard Brewing\, 27501 SW 95th Ave #945\, Wilsonville\, OR\, 97070
END:VEVENT
BEGIN:VEVENT
DTSTART;TZID=America/Los_Angeles:20260317T190000
DTEND;TZID=America/Los_Angeles:20260317T210000
DTSTAMP:20260424T054122
CREATED:20260301T023152Z
LAST-MODIFIED:20260301T023152Z
UID:381-1773774000-1773781200@stumptowntrivia.com
SUMMARY:Bingo Night
DESCRIPTION:Check-In: 6pm | Free to Play
URL:https://stumptowntrivia.com/event/bingo-night-31/
LOCATION:3 Mugs Public House\, 16755 W Baseline Rd suite 110\, Beaverton\, OR\, 97006
END:VEVENT
BEGIN:VEVENT
DTSTART;TZID=America/Los_Angeles:20260317T190000
DTEND;TZID=America/Los_Angeles:20260317T210000
DTSTAMP:20260424T054122
CREATED:20260301T184419Z
LAST-MODIFIED:20260301T184419Z
UID:383-1773774000-1773781200@stumptowntrivia.com
SUMMARY:One Hit Wonders Trivia
DESCRIPTION:Check-In: 6pm | All Ages
URL:https://stumptowntrivia.com/event/one-hit-wonders-trivia/
LOCATION:KingPins Beaverton\, 2725 SW Cedar Hills Blvd\, Beaverton\, OR\, 97005
END:VEVENT
BEGIN:VEVENT
DTSTART;TZID=America/Los_Angeles:20260318T190000
DTEND;TZID=America/Los_Angeles:20260318T210000
DTSTAMP:20260424T054122
CREATED:20260301T234212Z
LAST-MODIFIED:20260302T032709Z
UID:386-1773860400-1773867600@stumptowntrivia.com
SUMMARY:Bridgerton Trivia
DESCRIPTION:Check-In: 6pm | All Ages
URL:https://stumptowntrivia.com/event/bridgerton-trivia/
LOCATION:Prime Tap House\, 3900 SW Orbit St Unit 120\, B eaverton\, OR\, 97005
END:VEVENT
BEGIN:VEVENT
DTSTART;TZID=America/Los_Angeles:20260319T183000
DTEND;TZID=America/Los_Angeles:20260319T203000
DTSTAMP:20260424T054122
CREATED:20260306T170944Z
LAST-MODIFIED:20260306T170944Z
UID:390-1773945000-1773952200@stumptowntrivia.com
SUMMARY:Musicals Trivia
DESCRIPTION:Check-In: 6pm | All Ages
URL:https://stumptowntrivia.com/event/musicals-trivia/
LOCATION:Tap & Table\, 12950 SW Pacific Hwy #285\, Tigard\, OR\, 97223
END:VEVENT
BEGIN:VEVENT
DTSTART;TZID=America/Los_Angeles:20260320T190000
DTEND;TZID=America/Los_Angeles:20260320T220000
DTSTAMP:20260424T054122
CREATED:20260306T174256Z
LAST-MODIFIED:20260306T174256Z
UID:393-1774033200-1774044000@stumptowntrivia.com
SUMMARY:Karaoke Night
DESCRIPTION:First Song at 7pm
URL:https://stumptowntrivia.com/event/karaoke-night-2/
LOCATION:Hops on Tap\, 15660 SW Pacific Hwy Suite A-8\, Tigard\, OR\, 97224
END:VEVENT
BEGIN:VEVENT
DTSTART;TZID=America/Los_Angeles:20260322T170000
DTEND;TZID=America/Los_Angeles:20260322T190000
DTSTAMP:20260424T054122
CREATED:20260306T204508Z
LAST-MODIFIED:20260306T204508Z
UID:395-1774198800-1774206000@stumptowntrivia.com
SUMMARY:Animated Disney Trivia
DESCRIPTION:Check-In: 4pm | $5 Entry
URL:https://stumptowntrivia.com/event/animated-disney-trivia/
LOCATION:Hops on Tap\, 15660 SW Pacific Hwy Suite A-8\, Tigard\, OR\, 97224
END:VEVENT
BEGIN:VEVENT
DTSTART;TZID=America/Los_Angeles:20260323T180000
DTEND;TZID=America/Los_Angeles:20260323T200000
DTSTAMP:20260424T054122
CREATED:20260307T040548Z
LAST-MODIFIED:20260307T040548Z
UID:400-1774288800-1774296000@stumptowntrivia.com
SUMMARY:General Trivia
DESCRIPTION:Check-In: 5:30pm | All Ages
URL:https://stumptowntrivia.com/event/general-trivia-15/
LOCATION:Forage Grove\, 1921 21st Ave\, Forest Grove\, OR\, 97116\, United States
END:VEVENT
BEGIN:VEVENT
DTSTART;TZID=America/Los_Angeles:20260323T183000
DTEND;TZID=America/Los_Angeles:20260323T203000
DTSTAMP:20260424T054122
CREATED:20260306T222903Z
LAST-MODIFIED:20260306T222903Z
UID:397-1774290600-1774297800@stumptowntrivia.com
SUMMARY:Name That Tune Trivia
DESCRIPTION:Check-In: 6pm | $5 Entry
URL:https://stumptowntrivia.com/event/name-that-tune-trivia-5/
LOCATION:Stickmen Brewing\, 19475 SW 118th Ave #1\, Tualatin\, OR\, 97062
END:VEVENT
BEGIN:VEVENT
DTSTART;TZID=America/Los_Angeles:20260324T183000
DTEND;TZID=America/Los_Angeles:20260324T203000
DTSTAMP:20260424T054122
CREATED:20260308T191944Z
LAST-MODIFIED:20260308T191944Z
UID:408-1774377000-1774384200@stumptowntrivia.com
SUMMARY:General Trivia
DESCRIPTION:Check-In: 6pm | 21+ Only
URL:https://stumptowntrivia.com/event/general-trivia-16/
LOCATION:Vanguard Brewing\, 27501 SW 95th Ave #945\, Wilsonville\, OR\, 97070
END:VEVENT
BEGIN:VEVENT
DTSTART;TZID=America/Los_Angeles:20260324T190000
DTEND;TZID=America/Los_Angeles:20260324T210000
DTSTAMP:20260424T054122
CREATED:20260307T171443Z
LAST-MODIFIED:20260307T171443Z
UID:403-1774378800-1774386000@stumptowntrivia.com
SUMMARY:Disney Music Trivia
DESCRIPTION:Check-In: 6pm | Free to Play
URL:https://stumptowntrivia.com/event/disney-music-trivia/
LOCATION:KingPins Beaverton\, 2725 SW Cedar Hills Blvd\, Beaverton\, OR\, 97005
END:VEVENT
BEGIN:VEVENT
DTSTART;TZID=America/Los_Angeles:20260324T190000
DTEND;TZID=America/Los_Angeles:20260324T210000
DTSTAMP:20260424T054122
CREATED:20260307T190216Z
LAST-MODIFIED:20260307T190216Z
UID:406-1774378800-1774386000@stumptowntrivia.com
SUMMARY:Bingo Night
DESCRIPTION:Check-In: 6pm | All Ages
URL:https://stumptowntrivia.com/event/bingo-night-32/
LOCATION:3 Mugs Public House\, 16755 W Baseline Rd suite 110\, Beaverton\, OR\, 97006
END:VEVENT
BEGIN:VEVENT
DTSTART;TZID=America/Los_Angeles:20260325T190000
DTEND;TZID=America/Los_Angeles:20260325T210000
DTSTAMP:20260424T054122
CREATED:20260313T185750Z
LAST-MODIFIED:20260313T185750Z
UID:410-1774465200-1774472400@stumptowntrivia.com
SUMMARY:Bingo Night
DESCRIPTION:Check-In: 6pm | All Ages
URL:https://stumptowntrivia.com/event/bingo-night-33/
LOCATION:Hops on Tap\, 15660 SW Pacific Hwy Suite A-8\, Tigard\, OR\, 97224
END:VEVENT
BEGIN:VEVENT
DTSTART;TZID=America/Los_Angeles:20260326T183000
DTEND;TZID=America/Los_Angeles:20260326T203000
DTSTAMP:20260424T054122
CREATED:20260313T233102Z
LAST-MODIFIED:20260313T233102Z
UID:415-1774549800-1774557000@stumptowntrivia.com
SUMMARY:Bingo Night
DESCRIPTION:Check-In: 6pm | All Ages
URL:https://stumptowntrivia.com/event/bingo-night-34/
LOCATION:Tap & Table\, 12950 SW Pacific Hwy #285\, Tigard\, OR\, 97223
END:VEVENT
BEGIN:VEVENT
DTSTART;TZID=America/Los_Angeles:20260326T190000
DTEND;TZID=America/Los_Angeles:20260326T210000
DTSTAMP:20260424T054122
CREATED:20260313T230955Z
LAST-MODIFIED:20260313T230955Z
UID:412-1774551600-1774558800@stumptowntrivia.com
SUMMARY:Disney Villains Trivia
DESCRIPTION:Check-In: 6pm | All Ages
URL:https://stumptowntrivia.com/event/disney-villains-trivia/
LOCATION:3 Mugs Public House\, 16755 W Baseline Rd suite 110\, Beaverton\, OR\, 97006
END:VEVENT
BEGIN:VEVENT
DTSTART;TZID=America/Los_Angeles:20260330T180000
DTEND;TZID=America/Los_Angeles:20260330T200000
DTSTAMP:20260424T054122
CREATED:20260314T154644Z
LAST-MODIFIED:20260314T154644Z
UID:419-1774893600-1774900800@stumptowntrivia.com
SUMMARY:90s Music Bingo
DESCRIPTION:Check-In: 5:30pm | All Ages
URL:https://stumptowntrivia.com/event/90s-music-bingo-3/
LOCATION:Forage Grove\, 1921 21st Ave\, Forest Grove\, OR\, 97116\, United States
END:VEVENT
BEGIN:VEVENT
DTSTART;TZID=America/Los_Angeles:20260330T183000
DTEND;TZID=America/Los_Angeles:20260330T203000
DTSTAMP:20260424T054122
CREATED:20260314T062438Z
LAST-MODIFIED:20260314T062438Z
UID:417-1774895400-1774902600@stumptowntrivia.com
SUMMARY:General Trivia
DESCRIPTION:Check-In: 6pm | 21+ Only
URL:https://stumptowntrivia.com/event/general-trivia-17/
LOCATION:Civic Taproom\, 621 SW 19th Ave\, Portland\, OR\, 97205\, United States
END:VEVENT
BEGIN:VEVENT
DTSTART;TZID=America/Los_Angeles:20260331T183000
DTEND;TZID=America/Los_Angeles:20260331T203000
DTSTAMP:20260424T054122
CREATED:20260319T160236Z
LAST-MODIFIED:20260319T160236Z
UID:428-1774981800-1774989000@stumptowntrivia.com
SUMMARY:General Trivia
DESCRIPTION:Check-In: 6pm | 21+ Only
URL:https://stumptowntrivia.com/event/general-trivia-18/
LOCATION:Vanguard Brewing\, 27501 SW 95th Ave #945\, Wilsonville\, OR\, 97070
END:VEVENT
BEGIN:VEVENT
DTSTART;TZID=America/Los_Angeles:20260331T190000
DTEND;TZID=America/Los_Angeles:20260331T210000
DTSTAMP:20260424T054122
CREATED:20260315T191453Z
LAST-MODIFIED:20260315T191453Z
UID:422-1774983600-1774990800@stumptowntrivia.com
SUMMARY:Harry Potter Trivia
DESCRIPTION:Check-In: 6pm | All Ages
URL:https://stumptowntrivia.com/event/harry-potter-trivia-2/
LOCATION:KingPins Beaverton\, 2725 SW Cedar Hills Blvd\, Beaverton\, OR\, 97005
END:VEVENT
BEGIN:VEVENT
DTSTART;TZID=America/Los_Angeles:20260331T190000
DTEND;TZID=America/Los_Angeles:20260331T210000
DTSTAMP:20260424T054122
CREATED:20260319T154035Z
LAST-MODIFIED:20260401T014727Z
UID:425-1774983600-1774990800@stumptowntrivia.com
SUMMARY:Bingo Night
DESCRIPTION:Check-In: 6pm | All Ages
URL:https://stumptowntrivia.com/event/bingo-night-35/
LOCATION:3 Mugs Public House\, 16755 W Baseline Rd suite 110\, Beaverton\, OR\, 97006
END:VEVENT
BEGIN:VEVENT
DTSTART;TZID=America/Los_Angeles:20260401T190000
DTEND;TZID=America/Los_Angeles:20260401T210000
DTSTAMP:20260424T054122
CREATED:20260321T200229Z
LAST-MODIFIED:20260321T200229Z
UID:431-1775070000-1775077200@stumptowntrivia.com
SUMMARY:Bingo Night
DESCRIPTION:Check-In: 6pm | All Ages
URL:https://stumptowntrivia.com/event/bingo-night-36/
LOCATION:Prime Tap House\, 3900 SW Orbit St Unit 120\, B eaverton\, OR\, 97005
END:VEVENT
BEGIN:VEVENT
DTSTART;TZID=America/Los_Angeles:20260402T183000
DTEND;TZID=America/Los_Angeles:20260402T203000
DTSTAMP:20260424T054122
CREATED:20260321T204354Z
LAST-MODIFIED:20260321T204354Z
UID:433-1775154600-1775161800@stumptowntrivia.com
SUMMARY:Twilight Saga Trivia
DESCRIPTION:Check-In: 6pm | All Ages
URL:https://stumptowntrivia.com/event/twilight-saga-trivia-2/
LOCATION:Tap & Table\, 12950 SW Pacific Hwy #285\, Tigard\, OR\, 97223
END:VEVENT
END:VCALENDAR