BEGIN:VCALENDAR
VERSION:2.0
PRODID:-//Stumptown Trivia &amp; Bingo - ECPv6.15.20//NONSGML v1.0//EN
CALSCALE:GREGORIAN
METHOD:PUBLISH
X-ORIGINAL-URL:https://stumptowntrivia.com
X-WR-CALDESC:Events for Stumptown Trivia &amp; Bingo
REFRESH-INTERVAL;VALUE=DURATION:PT1H
X-Robots-Tag:noindex
X-PUBLISHED-TTL:PT1H
BEGIN:VTIMEZONE
TZID:America/Los_Angeles
BEGIN:DAYLIGHT
TZOFFSETFROM:-0800
TZOFFSETTO:-0700
TZNAME:PDT
DTSTART:20250309T100000
END:DAYLIGHT
BEGIN:STANDARD
TZOFFSETFROM:-0700
TZOFFSETTO:-0800
TZNAME:PST
DTSTART:20251102T090000
END:STANDARD
BEGIN:DAYLIGHT
TZOFFSETFROM:-0800
TZOFFSETTO:-0700
TZNAME:PDT
DTSTART:20260308T100000
END:DAYLIGHT
BEGIN:STANDARD
TZOFFSETFROM:-0700
TZOFFSETTO:-0800
TZNAME:PST
DTSTART:20261101T090000
END:STANDARD
BEGIN:DAYLIGHT
TZOFFSETFROM:-0800
TZOFFSETTO:-0700
TZNAME:PDT
DTSTART:20270314T100000
END:DAYLIGHT
BEGIN:STANDARD
TZOFFSETFROM:-0700
TZOFFSETTO:-0800
TZNAME:PST
DTSTART:20271107T090000
END:STANDARD
END:VTIMEZONE
BEGIN:VEVENT
DTSTART;TZID=America/Los_Angeles:20260412T170000
DTEND;TZID=America/Los_Angeles:20260412T190000
DTSTAMP:20260424T005540
CREATED:20260327T215412Z
LAST-MODIFIED:20260327T215412Z
UID:460-1776013200-1776020400@stumptowntrivia.com
SUMMARY:Sunday Bingo
DESCRIPTION:Check-In: 4pm | All Ages
URL:https://stumptowntrivia.com/event/sunday-bingo-5/
LOCATION:Hops on Tap\, 15660 SW Pacific Hwy Suite A-8\, Tigard\, OR\, 97224
END:VEVENT
BEGIN:VEVENT
DTSTART;TZID=America/Los_Angeles:20260413T180000
DTEND;TZID=America/Los_Angeles:20260413T200000
DTSTAMP:20260424T005540
CREATED:20260329T180739Z
LAST-MODIFIED:20260329T180739Z
UID:462-1776103200-1776110400@stumptowntrivia.com
SUMMARY:General Trivia
DESCRIPTION:Check-In: 5:30pm | All Ages
URL:https://stumptowntrivia.com/event/general-trivia-19/
LOCATION:Forage Grove\, 1921 21st Ave\, Forest Grove\, OR\, 97116\, United States
END:VEVENT
BEGIN:VEVENT
DTSTART;TZID=America/Los_Angeles:20260414T183000
DTEND;TZID=America/Los_Angeles:20260414T203000
DTSTAMP:20260424T005540
CREATED:20260329T204333Z
LAST-MODIFIED:20260329T204333Z
UID:469-1776191400-1776198600@stumptowntrivia.com
SUMMARY:General Trivia
DESCRIPTION:Check-In: 6pm | 21+ Only
URL:https://stumptowntrivia.com/event/general-trivia-20/
LOCATION:Vanguard Brewing\, 27501 SW 95th Ave #945\, Wilsonville\, OR\, 97070
END:VEVENT
BEGIN:VEVENT
DTSTART;TZID=America/Los_Angeles:20260414T190000
DTEND;TZID=America/Los_Angeles:20260414T210000
DTSTAMP:20260424T005540
CREATED:20260329T182435Z
LAST-MODIFIED:20260329T182435Z
UID:464-1776193200-1776200400@stumptowntrivia.com
SUMMARY:F•R•I•E•N•D•S Trivia
DESCRIPTION:Check-In: 6pm | Free to Play
URL:https://stumptowntrivia.com/event/friends-trivia-4/
LOCATION:KingPins Beaverton\, 2725 SW Cedar Hills Blvd\, Beaverton\, OR\, 97005
END:VEVENT
BEGIN:VEVENT
DTSTART;TZID=America/Los_Angeles:20260414T190000
DTEND;TZID=America/Los_Angeles:20260414T210000
DTSTAMP:20260424T005540
CREATED:20260329T194913Z
LAST-MODIFIED:20260329T194913Z
UID:467-1776193200-1776200400@stumptowntrivia.com
SUMMARY:Bingo Night
DESCRIPTION:Check-In: 6pm | All Ages
URL:https://stumptowntrivia.com/event/bingo-night-39/
LOCATION:3 Mugs Public House\, 16755 W Baseline Rd suite 110\, Beaverton\, OR\, 97006
END:VEVENT
BEGIN:VEVENT
DTSTART;TZID=America/Los_Angeles:20260415T190000
DTEND;TZID=America/Los_Angeles:20260415T210000
DTSTAMP:20260424T005540
CREATED:20260402T052910Z
LAST-MODIFIED:20260402T052910Z
UID:480-1776279600-1776286800@stumptowntrivia.com
SUMMARY:One Hit Wonders Trivia
DESCRIPTION:Check-In: 6pm | All Ges
URL:https://stumptowntrivia.com/event/one-hit-wonders-trivia-2/
LOCATION:Prime Tap House\, 3900 SW Orbit St Unit 120\, B eaverton\, OR\, 97005
END:VEVENT
BEGIN:VEVENT
DTSTART;TZID=America/Los_Angeles:20260416T183000
DTEND;TZID=America/Los_Angeles:20260416T203000
DTSTAMP:20260424T005540
CREATED:20260402T045534Z
LAST-MODIFIED:20260402T045534Z
UID:471-1776364200-1776371400@stumptowntrivia.com
SUMMARY:Taylor Swift Music Trivia
DESCRIPTION:Check-In: 6pm | All Ages
URL:https://stumptowntrivia.com/event/taylor-swift-music-trivia/
LOCATION:Tap & Table\, 12950 SW Pacific Hwy #285\, Tigard\, OR\, 97223
END:VEVENT
BEGIN:VEVENT
DTSTART;TZID=America/Los_Angeles:20260417T190000
DTEND;TZID=America/Los_Angeles:20260417T210000
DTSTAMP:20260424T005540
CREATED:20260402T070950Z
LAST-MODIFIED:20260402T070950Z
UID:483-1776452400-1776459600@stumptowntrivia.com
SUMMARY:Karaoke Night
DESCRIPTION:First Song @ 7pm | No Cover
URL:https://stumptowntrivia.com/event/karaoke-night-3/
LOCATION:Hops on Tap\, 15660 SW Pacific Hwy Suite A-8\, Tigard\, OR\, 97224
END:VEVENT
BEGIN:VEVENT
DTSTART;TZID=America/Los_Angeles:20260419T170000
DTEND;TZID=America/Los_Angeles:20260419T190000
DTSTAMP:20260424T005540
CREATED:20260403T064039Z
LAST-MODIFIED:20260403T064039Z
UID:485-1776618000-1776625200@stumptowntrivia.com
SUMMARY:90s Music Bingo
DESCRIPTION:Check-In: 4pm | 21+ Only
URL:https://stumptowntrivia.com/event/90s-music-bingo-4/
LOCATION:Vanguard Brewing\, 27501 SW 95th Ave #945\, Wilsonville\, OR\, 97070
END:VEVENT
BEGIN:VEVENT
DTSTART;TZID=America/Los_Angeles:20260420T180000
DTEND;TZID=America/Los_Angeles:20260420T200000
DTSTAMP:20260424T005540
CREATED:20260404T051923Z
LAST-MODIFIED:20260404T051923Z
UID:490-1776708000-1776715200@stumptowntrivia.com
SUMMARY:General Trivia
DESCRIPTION:Check-In: 5:30pm | All Ages
URL:https://stumptowntrivia.com/event/general-trivia-21/
LOCATION:Forage Grove\, 1921 21st Ave\, Forest Grove\, OR\, 97116\, United States
END:VEVENT
BEGIN:VEVENT
DTSTART;TZID=America/Los_Angeles:20260420T183000
DTEND;TZID=America/Los_Angeles:20260420T203000
DTSTAMP:20260424T005540
CREATED:20260404T000101Z
LAST-MODIFIED:20260404T000101Z
UID:488-1776709800-1776717000@stumptowntrivia.com
SUMMARY:The Office Trivia
DESCRIPTION:Check-In: 6pm | All Ages
URL:https://stumptowntrivia.com/event/the-office-trivia-3/
LOCATION:Three Mermaids Public House\, 18041 SW Lower Boones Ferry Rd #1b\, Tigard\, OR\, 97224
END:VEVENT
BEGIN:VEVENT
DTSTART;TZID=America/Los_Angeles:20260421T183000
DTEND;TZID=America/Los_Angeles:20260421T203000
DTSTAMP:20260424T005540
CREATED:20260405T164742Z
LAST-MODIFIED:20260405T164742Z
UID:497-1776796200-1776803400@stumptowntrivia.com
SUMMARY:General Trivia
DESCRIPTION:Check-In: 6pm | 21+ Only
URL:https://stumptowntrivia.com/event/general-trivia-22/
LOCATION:Vanguard Brewing\, 27501 SW 95th Ave #945\, Wilsonville\, OR\, 97070
END:VEVENT
BEGIN:VEVENT
DTSTART;TZID=America/Los_Angeles:20260421T190000
DTEND;TZID=America/Los_Angeles:20260421T210000
DTSTAMP:20260424T005540
CREATED:20260404T161517Z
LAST-MODIFIED:20260404T161517Z
UID:492-1776798000-1776805200@stumptowntrivia.com
SUMMARY:Bingo Night
DESCRIPTION:Check-In: 6pm | All Ages
URL:https://stumptowntrivia.com/event/bingo-night-40/
LOCATION:3 Mugs Public House\, 16755 W Baseline Rd suite 110\, Beaverton\, OR\, 97006
END:VEVENT
BEGIN:VEVENT
DTSTART;TZID=America/Los_Angeles:20260421T190000
DTEND;TZID=America/Los_Angeles:20260421T210000
DTSTAMP:20260424T005540
CREATED:20260404T175103Z
LAST-MODIFIED:20260404T175103Z
UID:494-1776798000-1776805200@stumptowntrivia.com
SUMMARY:Name That Movie Trivia
DESCRIPTION:Check-In: 6pm | All Ages
URL:https://stumptowntrivia.com/event/name-that-movie-trivia-3/
LOCATION:KingPins Beaverton\, 2725 SW Cedar Hills Blvd\, Beaverton\, OR\, 97005
END:VEVENT
BEGIN:VEVENT
DTSTART;TZID=America/Los_Angeles:20260422T190000
DTEND;TZID=America/Los_Angeles:20260422T210000
DTSTAMP:20260424T005540
CREATED:20260405T192418Z
LAST-MODIFIED:20260405T192418Z
UID:499-1776884400-1776891600@stumptowntrivia.com
SUMMARY:Bingo Night
DESCRIPTION:Check-In: 6pm | All Ages
URL:https://stumptowntrivia.com/event/bingo-night-41/
LOCATION:Hops on Tap\, 15660 SW Pacific Hwy Suite A-8\, Tigard\, OR\, 97224
END:VEVENT
BEGIN:VEVENT
DTSTART;TZID=America/Los_Angeles:20260423T183000
DTEND;TZID=America/Los_Angeles:20260423T203000
DTSTAMP:20260424T005540
CREATED:20260410T233503Z
LAST-MODIFIED:20260410T233503Z
UID:504-1776969000-1776976200@stumptowntrivia.com
SUMMARY:Name That Early 2000s Tune
DESCRIPTION:Check-In: 6pm | All Ages
URL:https://stumptowntrivia.com/event/name-that-early-2000s-tune/
LOCATION:Ranch Pizza\, 4815 SW Lombard Ave\, Beaverton\, OR\, 97005
END:VEVENT
BEGIN:VEVENT
DTSTART;TZID=America/Los_Angeles:20260423T183000
DTEND;TZID=America/Los_Angeles:20260423T203000
DTSTAMP:20260424T005540
CREATED:20260411T013203Z
LAST-MODIFIED:20260411T013203Z
UID:507-1776969000-1776976200@stumptowntrivia.com
SUMMARY:Bingo Night
DESCRIPTION:Check-In: 6pm | All Ages
URL:https://stumptowntrivia.com/event/bingo-night-42/
LOCATION:Tap & Table\, 12950 SW Pacific Hwy #285\, Tigard\, OR\, 97223
END:VEVENT
BEGIN:VEVENT
DTSTART;TZID=America/Los_Angeles:20260423T190000
DTEND;TZID=America/Los_Angeles:20260423T210000
DTSTAMP:20260424T005540
CREATED:20260406T061914Z
LAST-MODIFIED:20260406T061914Z
UID:501-1776970800-1776978000@stumptowntrivia.com
SUMMARY:Kpop Demon Hunters Trivia
DESCRIPTION:Check-In: 6pm | All Ages
URL:https://stumptowntrivia.com/event/kpop-demon-hunters-trivia/
LOCATION:3 Mugs Public House\, 16755 W Baseline Rd suite 110\, Beaverton\, OR\, 97006
END:VEVENT
BEGIN:VEVENT
DTSTART;TZID=America/Los_Angeles:20260426T170000
DTEND;TZID=America/Los_Angeles:20260426T190000
DTSTAMP:20260424T005540
CREATED:20260411T030640Z
LAST-MODIFIED:20260411T030640Z
UID:509-1777222800-1777230000@stumptowntrivia.com
SUMMARY:The Mummy 1 & 2 Trivia
DESCRIPTION:Check-In: 4pm | $ 5 Entry
URL:https://stumptowntrivia.com/event/the-mummy-1-2-trivia/
LOCATION:Hops on Tap\, 15660 SW Pacific Hwy Suite A-8\, Tigard\, OR\, 97224
END:VEVENT
BEGIN:VEVENT
DTSTART;TZID=America/Los_Angeles:20260427T180000
DTEND;TZID=America/Los_Angeles:20260427T200000
DTSTAMP:20260424T005540
CREATED:20260411T152933Z
LAST-MODIFIED:20260411T152933Z
UID:514-1777312800-1777320000@stumptowntrivia.com
SUMMARY:Bingo Night
DESCRIPTION:Check-In: 5:30pm | All Ages
URL:https://stumptowntrivia.com/event/bingo-night-43/
LOCATION:Forage Grove\, 1921 21st Ave\, Forest Grove\, OR\, 97116\, United States
END:VEVENT
BEGIN:VEVENT
DTSTART;TZID=America/Los_Angeles:20260427T183000
DTEND;TZID=America/Los_Angeles:20260427T203000
DTSTAMP:20260424T005540
CREATED:20260411T070044Z
LAST-MODIFIED:20260411T070044Z
UID:512-1777314600-1777321800@stumptowntrivia.com
SUMMARY:General Trivia
DESCRIPTION:Check-In: 6pm | 21+
URL:https://stumptowntrivia.com/event/general-trivia-23/
LOCATION:Civic Taproom\, 621 SW 19th Ave\, Portland\, OR\, 97205\, United States
END:VEVENT
BEGIN:VEVENT
DTSTART;TZID=America/Los_Angeles:20260428T183000
DTEND;TZID=America/Los_Angeles:20260428T203000
DTSTAMP:20260424T005540
CREATED:20260412T142246Z
LAST-MODIFIED:20260412T142246Z
UID:521-1777401000-1777408200@stumptowntrivia.com
SUMMARY:General Trivia
DESCRIPTION:Check-In: 6pm | 21+ Only
URL:https://stumptowntrivia.com/event/general-trivia-24/
LOCATION:Vanguard Brewing\, 27501 SW 95th Ave #945\, Wilsonville\, OR\, 97070
END:VEVENT
BEGIN:VEVENT
DTSTART;TZID=America/Los_Angeles:20260428T190000
DTEND;TZID=America/Los_Angeles:20260428T210000
DTSTAMP:20260424T005540
CREATED:20260411T160044Z
LAST-MODIFIED:20260411T160044Z
UID:516-1777402800-1777410000@stumptowntrivia.com
SUMMARY:80s Night Trivia
DESCRIPTION:Check-In: 6pm | All Ages
URL:https://stumptowntrivia.com/event/80s-night-trivia/
LOCATION:KingPins Beaverton\, 2725 SW Cedar Hills Blvd\, Beaverton\, OR\, 97005
END:VEVENT
BEGIN:VEVENT
DTSTART;TZID=America/Los_Angeles:20260428T190000
DTEND;TZID=America/Los_Angeles:20260428T210000
DTSTAMP:20260424T005540
CREATED:20260412T005324Z
LAST-MODIFIED:20260412T005324Z
UID:519-1777402800-1777410000@stumptowntrivia.com
SUMMARY:Bingo Night
DESCRIPTION:Check-In: 6pm | All Ages
URL:https://stumptowntrivia.com/event/bingo-night-44/
LOCATION:3 Mugs Public House\, 16755 W Baseline Rd suite 110\, Beaverton\, OR\, 97006
END:VEVENT
BEGIN:VEVENT
DTSTART;TZID=America/Los_Angeles:20260430T183000
DTEND;TZID=America/Los_Angeles:20260430T203000
DTSTAMP:20260424T005540
CREATED:20260413T035036Z
LAST-MODIFIED:20260413T035036Z
UID:524-1777573800-1777581000@stumptowntrivia.com
SUMMARY:Bingo Night
DESCRIPTION:Check-In: 6pm | All Ages
URL:https://stumptowntrivia.com/event/bingo-night-45/
LOCATION:Tap & Table\, 12950 SW Pacific Hwy #285\, Tigard\, OR\, 97223
END:VEVENT
BEGIN:VEVENT
DTSTART;TZID=America/Los_Angeles:20260503T170000
DTEND;TZID=America/Los_Angeles:20260503T190000
DTSTAMP:20260424T005540
CREATED:20260417T061900Z
LAST-MODIFIED:20260417T061900Z
UID:526-1777827600-1777834800@stumptowntrivia.com
SUMMARY:Sunday Bingo
DESCRIPTION:Check-In: 4pm | 21+ Only
URL:https://stumptowntrivia.com/event/sunday-bingo-6/
LOCATION:Vanguard Brewing\, 27501 SW 95th Ave #945\, Wilsonville\, OR\, 97070
END:VEVENT
BEGIN:VEVENT
DTSTART;TZID=America/Los_Angeles:20260504T180000
DTEND;TZID=America/Los_Angeles:20260504T200000
DTSTAMP:20260424T005540
CREATED:20260418T053647Z
LAST-MODIFIED:20260418T053647Z
UID:531-1777917600-1777924800@stumptowntrivia.com
SUMMARY:Star Wars Trivia
DESCRIPTION:Check-In: 5:30pm | All Ages
URL:https://stumptowntrivia.com/event/star-wars-trivia-3/
LOCATION:Forage Grove\, 1921 21st Ave\, Forest Grove\, OR\, 97116\, United States
END:VEVENT
BEGIN:VEVENT
DTSTART;TZID=America/Los_Angeles:20260504T183000
DTEND;TZID=America/Los_Angeles:20260504T203000
DTSTAMP:20260424T005540
CREATED:20260417T151023Z
LAST-MODIFIED:20260417T151023Z
UID:528-1777919400-1777926600@stumptowntrivia.com
SUMMARY:Star Wars Trivia
DESCRIPTION:Check-In: 6pm | All Ages
URL:https://stumptowntrivia.com/event/star-wars-trivia-2/
LOCATION:Three Mermaids Public House\, 18041 SW Lower Boones Ferry Rd #1b\, Tigard\, OR\, 97224
END:VEVENT
BEGIN:VEVENT
DTSTART;TZID=America/Los_Angeles:20260505T183000
DTEND;TZID=America/Los_Angeles:20260505T203000
DTSTAMP:20260424T005540
CREATED:20260418T191246Z
LAST-MODIFIED:20260418T191246Z
UID:539-1778005800-1778013000@stumptowntrivia.com
SUMMARY:Disaster Films Trivia
DESCRIPTION:Check-In: 6pm | 21+ Only
URL:https://stumptowntrivia.com/event/disaster-films-trivia/
LOCATION:Vanguard Brewing\, 27501 SW 95th Ave #945\, Wilsonville\, OR\, 97070
END:VEVENT
BEGIN:VEVENT
DTSTART;TZID=America/Los_Angeles:20260505T190000
DTEND;TZID=America/Los_Angeles:20260505T210000
DTSTAMP:20260424T005540
CREATED:20260418T161040Z
LAST-MODIFIED:20260418T161040Z
UID:534-1778007600-1778014800@stumptowntrivia.com
SUMMARY:HP Sorcerer's Stone Book Trivia
DESCRIPTION:Check-In: 6pm | All Ages
URL:https://stumptowntrivia.com/event/hp-sorcerers-stone-book-trivia/
LOCATION:KingPins Beaverton\, 2725 SW Cedar Hills Blvd\, Beaverton\, OR\, 97005
END:VEVENT
END:VCALENDAR