BEGIN:VCALENDAR
VERSION:2.0
PRODID:-//Stumptown Trivia &amp; Bingo - ECPv6.15.20//NONSGML v1.0//EN
CALSCALE:GREGORIAN
METHOD:PUBLISH
X-ORIGINAL-URL:https://stumptowntrivia.com
X-WR-CALDESC:Events for Stumptown Trivia &amp; Bingo
REFRESH-INTERVAL;VALUE=DURATION:PT1H
X-Robots-Tag:noindex
X-PUBLISHED-TTL:PT1H
BEGIN:VTIMEZONE
TZID:America/Los_Angeles
BEGIN:DAYLIGHT
TZOFFSETFROM:-0800
TZOFFSETTO:-0700
TZNAME:PDT
DTSTART:20250309T100000
END:DAYLIGHT
BEGIN:STANDARD
TZOFFSETFROM:-0700
TZOFFSETTO:-0800
TZNAME:PST
DTSTART:20251102T090000
END:STANDARD
BEGIN:DAYLIGHT
TZOFFSETFROM:-0800
TZOFFSETTO:-0700
TZNAME:PDT
DTSTART:20260308T100000
END:DAYLIGHT
BEGIN:STANDARD
TZOFFSETFROM:-0700
TZOFFSETTO:-0800
TZNAME:PST
DTSTART:20261101T090000
END:STANDARD
BEGIN:DAYLIGHT
TZOFFSETFROM:-0800
TZOFFSETTO:-0700
TZNAME:PDT
DTSTART:20270314T100000
END:DAYLIGHT
BEGIN:STANDARD
TZOFFSETFROM:-0700
TZOFFSETTO:-0800
TZNAME:PST
DTSTART:20271107T090000
END:STANDARD
END:VTIMEZONE
BEGIN:VEVENT
DTSTART;TZID=America/Los_Angeles:20260415T190000
DTEND;TZID=America/Los_Angeles:20260415T210000
DTSTAMP:20260423T215515
CREATED:20260402T052910Z
LAST-MODIFIED:20260402T052910Z
UID:480-1776279600-1776286800@stumptowntrivia.com
SUMMARY:One Hit Wonders Trivia
DESCRIPTION:Check-In: 6pm | All Ges
URL:https://stumptowntrivia.com/event/one-hit-wonders-trivia-2/
LOCATION:Prime Tap House\, 3900 SW Orbit St Unit 120\, B eaverton\, OR\, 97005
END:VEVENT
END:VCALENDAR