BEGIN:VCALENDAR
VERSION:2.0
PRODID:-//Stumptown Trivia &amp; Bingo - ECPv6.15.20//NONSGML v1.0//EN
CALSCALE:GREGORIAN
METHOD:PUBLISH
X-WR-CALNAME:Stumptown Trivia &amp; Bingo
X-ORIGINAL-URL:https://stumptowntrivia.com
X-WR-CALDESC:Events for Stumptown Trivia &amp; Bingo
REFRESH-INTERVAL;VALUE=DURATION:PT1H
X-Robots-Tag:noindex
X-PUBLISHED-TTL:PT1H
BEGIN:VTIMEZONE
TZID:America/Los_Angeles
BEGIN:DAYLIGHT
TZOFFSETFROM:-0800
TZOFFSETTO:-0700
TZNAME:PDT
DTSTART:20250309T100000
END:DAYLIGHT
BEGIN:STANDARD
TZOFFSETFROM:-0700
TZOFFSETTO:-0800
TZNAME:PST
DTSTART:20251102T090000
END:STANDARD
BEGIN:DAYLIGHT
TZOFFSETFROM:-0800
TZOFFSETTO:-0700
TZNAME:PDT
DTSTART:20260308T100000
END:DAYLIGHT
BEGIN:STANDARD
TZOFFSETFROM:-0700
TZOFFSETTO:-0800
TZNAME:PST
DTSTART:20261101T090000
END:STANDARD
BEGIN:DAYLIGHT
TZOFFSETFROM:-0800
TZOFFSETTO:-0700
TZNAME:PDT
DTSTART:20270314T100000
END:DAYLIGHT
BEGIN:STANDARD
TZOFFSETFROM:-0700
TZOFFSETTO:-0800
TZNAME:PST
DTSTART:20271107T090000
END:STANDARD
END:VTIMEZONE
BEGIN:VEVENT
DTSTART;TZID=America/Los_Angeles:20260409T183000
DTEND;TZID=America/Los_Angeles:20260409T203000
DTSTAMP:20260423T215229
CREATED:20260326T065050Z
LAST-MODIFIED:20260326T065050Z
UID:455-1775759400-1775766600@stumptowntrivia.com
SUMMARY:Bingo Night
DESCRIPTION:Check-In: 6pm | All Ages
URL:https://stumptowntrivia.com/event/bingo-night-38/
LOCATION:Tap & Table\, 12950 SW Pacific Hwy #285\, Tigard\, OR\, 97223
END:VEVENT
BEGIN:VEVENT
DTSTART;TZID=America/Los_Angeles:20260409T190000
DTEND;TZID=America/Los_Angeles:20260409T210000
DTSTAMP:20260423T215229
CREATED:20260325T224219Z
LAST-MODIFIED:20260405T054005Z
UID:452-1775761200-1775768400@stumptowntrivia.com
SUMMARY:Disney Music Trivia
DESCRIPTION:Check-In: 6pm | All Ages
URL:https://stumptowntrivia.com/event/shoresy-trivia/
LOCATION:Taps! on Scholls\, 11427 SW Scholls Ferry Rd\, Beaverton\, OR\, 97008
END:VEVENT
BEGIN:VEVENT
DTSTART;TZID=America/Los_Angeles:20260409T190000
DTEND;TZID=America/Los_Angeles:20260409T210000
DTSTAMP:20260423T215229
CREATED:20260327T155118Z
LAST-MODIFIED:20260327T155118Z
UID:457-1775761200-1775768400@stumptowntrivia.com
SUMMARY:Spongebob Trivia
DESCRIPTION:Check-In: 6pm | All Ages
URL:https://stumptowntrivia.com/event/spongebob-trivia/
LOCATION:3 Mugs Public House\, 16755 W Baseline Rd suite 110\, Beaverton\, OR\, 97006
END:VEVENT
END:VCALENDAR