BEGIN:VCALENDAR
VERSION:2.0
PRODID:-//Stumptown Trivia &amp; Bingo - ECPv6.15.20//NONSGML v1.0//EN
CALSCALE:GREGORIAN
METHOD:PUBLISH
X-ORIGINAL-URL:https://stumptowntrivia.com
X-WR-CALDESC:Events for Stumptown Trivia &amp; Bingo
REFRESH-INTERVAL;VALUE=DURATION:PT1H
X-Robots-Tag:noindex
X-PUBLISHED-TTL:PT1H
BEGIN:VTIMEZONE
TZID:America/Los_Angeles
BEGIN:DAYLIGHT
TZOFFSETFROM:-0800
TZOFFSETTO:-0700
TZNAME:PDT
DTSTART:20250309T100000
END:DAYLIGHT
BEGIN:STANDARD
TZOFFSETFROM:-0700
TZOFFSETTO:-0800
TZNAME:PST
DTSTART:20251102T090000
END:STANDARD
BEGIN:DAYLIGHT
TZOFFSETFROM:-0800
TZOFFSETTO:-0700
TZNAME:PDT
DTSTART:20260308T100000
END:DAYLIGHT
BEGIN:STANDARD
TZOFFSETFROM:-0700
TZOFFSETTO:-0800
TZNAME:PST
DTSTART:20261101T090000
END:STANDARD
BEGIN:DAYLIGHT
TZOFFSETFROM:-0800
TZOFFSETTO:-0700
TZNAME:PDT
DTSTART:20270314T100000
END:DAYLIGHT
BEGIN:STANDARD
TZOFFSETFROM:-0700
TZOFFSETTO:-0800
TZNAME:PST
DTSTART:20271107T090000
END:STANDARD
END:VTIMEZONE
BEGIN:VEVENT
DTSTART;TZID=America/Los_Angeles:20260407T183000
DTEND;TZID=America/Los_Angeles:20260407T203000
DTSTAMP:20260423T215351
CREATED:20260322T174813Z
LAST-MODIFIED:20260322T174813Z
UID:441-1775586600-1775593800@stumptowntrivia.com
SUMMARY:Nic Cage Films Trivia
DESCRIPTION:Check-In: 6pm | 21+ Only
URL:https://stumptowntrivia.com/event/nic-cage-films-trivia/
LOCATION:Vanguard Brewing\, 27501 SW 95th Ave #945\, Wilsonville\, OR\, 97070
END:VEVENT
BEGIN:VEVENT
DTSTART;TZID=America/Los_Angeles:20260407T190000
DTEND;TZID=America/Los_Angeles:20260407T210000
DTSTAMP:20260423T215351
CREATED:20260322T180640Z
LAST-MODIFIED:20260322T180640Z
UID:444-1775588400-1775595600@stumptowntrivia.com
SUMMARY:Bingo Night
DESCRIPTION:Check-In: 6pm | All Ages
URL:https://stumptowntrivia.com/event/bingo-night-37/
LOCATION:3 Mugs Public House\, 16755 W Baseline Rd suite 110\, Beaverton\, OR\, 97006
END:VEVENT
BEGIN:VEVENT
DTSTART;TZID=America/Los_Angeles:20260407T190000
DTEND;TZID=America/Los_Angeles:20260407T210000
DTSTAMP:20260423T215351
CREATED:20260323T024332Z
LAST-MODIFIED:20260323T024332Z
UID:446-1775588400-1775595600@stumptowntrivia.com
SUMMARY:Early 2000s Music Trivia
DESCRIPTION:Check-In: 6pm | All Ages
URL:https://stumptowntrivia.com/event/early-2000s-music-trivia-2/
LOCATION:KingPins Beaverton\, 2725 SW Cedar Hills Blvd\, Beaverton\, OR\, 97005
END:VEVENT
END:VCALENDAR