BEGIN:VCALENDAR
VERSION:2.0
PRODID:-//Stumptown Trivia &amp; Bingo - ECPv6.15.20//NONSGML v1.0//EN
CALSCALE:GREGORIAN
METHOD:PUBLISH
X-WR-CALNAME:Stumptown Trivia &amp; Bingo
X-ORIGINAL-URL:https://stumptowntrivia.com
X-WR-CALDESC:Events for Stumptown Trivia &amp; Bingo
REFRESH-INTERVAL;VALUE=DURATION:PT1H
X-Robots-Tag:noindex
X-PUBLISHED-TTL:PT1H
BEGIN:VTIMEZONE
TZID:America/Los_Angeles
BEGIN:DAYLIGHT
TZOFFSETFROM:-0800
TZOFFSETTO:-0700
TZNAME:PDT
DTSTART:20250309T100000
END:DAYLIGHT
BEGIN:STANDARD
TZOFFSETFROM:-0700
TZOFFSETTO:-0800
TZNAME:PST
DTSTART:20251102T090000
END:STANDARD
BEGIN:DAYLIGHT
TZOFFSETFROM:-0800
TZOFFSETTO:-0700
TZNAME:PDT
DTSTART:20260308T100000
END:DAYLIGHT
BEGIN:STANDARD
TZOFFSETFROM:-0700
TZOFFSETTO:-0800
TZNAME:PST
DTSTART:20261101T090000
END:STANDARD
BEGIN:DAYLIGHT
TZOFFSETFROM:-0800
TZOFFSETTO:-0700
TZNAME:PDT
DTSTART:20270314T100000
END:DAYLIGHT
BEGIN:STANDARD
TZOFFSETFROM:-0700
TZOFFSETTO:-0800
TZNAME:PST
DTSTART:20271107T090000
END:STANDARD
END:VTIMEZONE
BEGIN:VEVENT
DTSTART;TZID=America/Los_Angeles:20260330T180000
DTEND;TZID=America/Los_Angeles:20260330T200000
DTSTAMP:20260423T215203
CREATED:20260314T154644Z
LAST-MODIFIED:20260314T154644Z
UID:419-1774893600-1774900800@stumptowntrivia.com
SUMMARY:90s Music Bingo
DESCRIPTION:Check-In: 5:30pm | All Ages
URL:https://stumptowntrivia.com/event/90s-music-bingo-3/
LOCATION:Forage Grove\, 1921 21st Ave\, Forest Grove\, OR\, 97116\, United States
END:VEVENT
BEGIN:VEVENT
DTSTART;TZID=America/Los_Angeles:20260330T183000
DTEND;TZID=America/Los_Angeles:20260330T203000
DTSTAMP:20260423T215203
CREATED:20260314T062438Z
LAST-MODIFIED:20260314T062438Z
UID:417-1774895400-1774902600@stumptowntrivia.com
SUMMARY:General Trivia
DESCRIPTION:Check-In: 6pm | 21+ Only
URL:https://stumptowntrivia.com/event/general-trivia-17/
LOCATION:Civic Taproom\, 621 SW 19th Ave\, Portland\, OR\, 97205\, United States
END:VEVENT
END:VCALENDAR