BEGIN:VCALENDAR
VERSION:2.0
PRODID:-//Stumptown Trivia &amp; Bingo - ECPv6.15.20//NONSGML v1.0//EN
CALSCALE:GREGORIAN
METHOD:PUBLISH
X-WR-CALNAME:Stumptown Trivia &amp; Bingo
X-ORIGINAL-URL:https://stumptowntrivia.com
X-WR-CALDESC:Events for Stumptown Trivia &amp; Bingo
REFRESH-INTERVAL;VALUE=DURATION:PT1H
X-Robots-Tag:noindex
X-PUBLISHED-TTL:PT1H
BEGIN:VTIMEZONE
TZID:America/Los_Angeles
BEGIN:DAYLIGHT
TZOFFSETFROM:-0800
TZOFFSETTO:-0700
TZNAME:PDT
DTSTART:20250309T100000
END:DAYLIGHT
BEGIN:STANDARD
TZOFFSETFROM:-0700
TZOFFSETTO:-0800
TZNAME:PST
DTSTART:20251102T090000
END:STANDARD
BEGIN:DAYLIGHT
TZOFFSETFROM:-0800
TZOFFSETTO:-0700
TZNAME:PDT
DTSTART:20260308T100000
END:DAYLIGHT
BEGIN:STANDARD
TZOFFSETFROM:-0700
TZOFFSETTO:-0800
TZNAME:PST
DTSTART:20261101T090000
END:STANDARD
BEGIN:DAYLIGHT
TZOFFSETFROM:-0800
TZOFFSETTO:-0700
TZNAME:PDT
DTSTART:20270314T100000
END:DAYLIGHT
BEGIN:STANDARD
TZOFFSETFROM:-0700
TZOFFSETTO:-0800
TZNAME:PST
DTSTART:20271107T090000
END:STANDARD
END:VTIMEZONE
BEGIN:VEVENT
DTSTART;TZID=America/Los_Angeles:20260323T180000
DTEND;TZID=America/Los_Angeles:20260323T200000
DTSTAMP:20260423T233222
CREATED:20260307T040548Z
LAST-MODIFIED:20260307T040548Z
UID:400-1774288800-1774296000@stumptowntrivia.com
SUMMARY:General Trivia
DESCRIPTION:Check-In: 5:30pm | All Ages
URL:https://stumptowntrivia.com/event/general-trivia-15/
LOCATION:Forage Grove\, 1921 21st Ave\, Forest Grove\, OR\, 97116\, United States
END:VEVENT
BEGIN:VEVENT
DTSTART;TZID=America/Los_Angeles:20260323T183000
DTEND;TZID=America/Los_Angeles:20260323T203000
DTSTAMP:20260423T233223
CREATED:20260306T222903Z
LAST-MODIFIED:20260306T222903Z
UID:397-1774290600-1774297800@stumptowntrivia.com
SUMMARY:Name That Tune Trivia
DESCRIPTION:Check-In: 6pm | $5 Entry
URL:https://stumptowntrivia.com/event/name-that-tune-trivia-5/
LOCATION:Stickmen Brewing\, 19475 SW 118th Ave #1\, Tualatin\, OR\, 97062
END:VEVENT
END:VCALENDAR