BEGIN:VCALENDAR
VERSION:2.0
PRODID:-//Stumptown Trivia &amp; Bingo - ECPv6.15.20//NONSGML v1.0//EN
CALSCALE:GREGORIAN
METHOD:PUBLISH
X-WR-CALNAME:Stumptown Trivia &amp; Bingo
X-ORIGINAL-URL:https://stumptowntrivia.com
X-WR-CALDESC:Events for Stumptown Trivia &amp; Bingo
REFRESH-INTERVAL;VALUE=DURATION:PT1H
X-Robots-Tag:noindex
X-PUBLISHED-TTL:PT1H
BEGIN:VTIMEZONE
TZID:America/Los_Angeles
BEGIN:DAYLIGHT
TZOFFSETFROM:-0800
TZOFFSETTO:-0700
TZNAME:PDT
DTSTART:20250309T100000
END:DAYLIGHT
BEGIN:STANDARD
TZOFFSETFROM:-0700
TZOFFSETTO:-0800
TZNAME:PST
DTSTART:20251102T090000
END:STANDARD
BEGIN:DAYLIGHT
TZOFFSETFROM:-0800
TZOFFSETTO:-0700
TZNAME:PDT
DTSTART:20260308T100000
END:DAYLIGHT
BEGIN:STANDARD
TZOFFSETFROM:-0700
TZOFFSETTO:-0800
TZNAME:PST
DTSTART:20261101T090000
END:STANDARD
BEGIN:DAYLIGHT
TZOFFSETFROM:-0800
TZOFFSETTO:-0700
TZNAME:PDT
DTSTART:20270314T100000
END:DAYLIGHT
BEGIN:STANDARD
TZOFFSETFROM:-0700
TZOFFSETTO:-0800
TZNAME:PST
DTSTART:20271107T090000
END:STANDARD
END:VTIMEZONE
BEGIN:VEVENT
DTSTART;TZID=America/Los_Angeles:20260117T190000
DTEND;TZID=America/Los_Angeles:20260117T203000
DTSTAMP:20260424T021321
CREATED:20260109T181947Z
LAST-MODIFIED:20260109T181947Z
UID:194-1768676400-1768681800@stumptowntrivia.com
SUMMARY:90s Music Bingo
DESCRIPTION:Check-In: 6pm | All Ages
URL:https://stumptowntrivia.com/event/90s-music-bingo/
LOCATION:Taps! on Scholls\, 11427 SW Scholls Ferry Rd\, Beaverton\, OR\, 97008
END:VEVENT
END:VCALENDAR